BEGIN:VCALENDAR
VERSION:2.0
PRODID:spatie/icalendar-generator
DESCRIPTION:Events from St Mary Champion H.S. School
X-WR-CALDESC:Events from St Mary Champion H.S. School
REFRESH-INTERVAL;VALUE=DURATION:PT1440M
X-PUBLISHED-TTL:PT1440M
BEGIN:VTIMEZONE
TZID:Etc/GMT+0
BEGIN:STANDARD
DTSTART:20240618T000000Z
TZOFFSETFROM:+0000
TZOFFSETTO:+0000
END:STANDARD
END:VTIMEZONE
BEGIN:VTIMEZONE
TZID:UTC
BEGIN:STANDARD
DTSTART:20250729T200804Z
TZOFFSETFROM:+0000
TZOFFSETTO:+0000
END:STANDARD
END:VTIMEZONE
BEGIN:VEVENT
UID:35-34
DTSTAMP:20260425T200804Z
SUMMARY:Term- II Exam for class VI-VIII
LOCATION:
ORGANIZER;CN=campus1:MAILTO:victor.swamy@gmail.com
DTSTART;TZID=Etc/GMT+0:20250315T000000
DTEND;TZID=Etc/GMT+0:20250315T010000
X-ALT-DESC;FMTTYPE=TEXT/HTML:
CATEGORIES:General
URL;VALUE=URI:https://stmarychampion.com/campusI/mc-events/term-ii-exam-for
 -class-vi-viii-7/
METHOD:PUBLISH
END:VEVENT
END:VCALENDAR