BEGIN:VCALENDAR
VERSION:2.0
PRODID:spatie/icalendar-generator
DESCRIPTION:Events from St Mary Champion H.S. School
X-WR-CALDESC:Events from St Mary Champion H.S. School
REFRESH-INTERVAL;VALUE=DURATION:PT1440M
X-PUBLISHED-TTL:PT1440M
BEGIN:VTIMEZONE
TZID:Etc/GMT+0
BEGIN:STANDARD
DTSTART:20240705T000000Z
TZOFFSETFROM:+0000
TZOFFSETTO:+0000
END:STANDARD
END:VTIMEZONE
BEGIN:VTIMEZONE
TZID:UTC
BEGIN:STANDARD
DTSTART:20250729T171547Z
TZOFFSETFROM:+0000
TZOFFSETTO:+0000
END:STANDARD
END:VTIMEZONE
BEGIN:VEVENT
UID:39-38
DTSTAMP:20260425T171547Z
SUMMARY:New Session Start New Session Prayer Meet
LOCATION:
ORGANIZER;CN=campus1:MAILTO:victor.swamy@gmail.com
DTSTART;TZID=Etc/GMT+0;VALUE=DATE:20250401
DTEND;TZID=Etc/GMT+0;VALUE=DATE:20250402
X-ALT-DESC;FMTTYPE=TEXT/HTML:
CATEGORIES:General
URL;VALUE=URI:https://stmarychampion.com/campusI/mc-events/new-session-star
 t-new-session-prayer-meet/
METHOD:PUBLISH
END:VEVENT
END:VCALENDAR