BEGIN:VCALENDAR
VERSION:2.0
PRODID:spatie/icalendar-generator
DESCRIPTION:Events from St Mary Champion H.S. School
X-WR-CALDESC:Events from St Mary Champion H.S. School
REFRESH-INTERVAL;VALUE=DURATION:PT1440M
X-PUBLISHED-TTL:PT1440M
BEGIN:VTIMEZONE
TZID:Etc/GMT+0
BEGIN:STANDARD
DTSTART:20241111T000000Z
TZOFFSETFROM:+0000
TZOFFSETTO:+0000
END:STANDARD
END:VTIMEZONE
BEGIN:VTIMEZONE
TZID:UTC
BEGIN:STANDARD
DTSTART:20250728T123643Z
TZOFFSETFROM:+0000
TZOFFSETTO:+0000
END:STANDARD
END:VTIMEZONE
BEGIN:VEVENT
UID:70-63
DTSTAMP:20260424T123643Z
SUMMARY:Inter house Folk Dance Competition
LOCATION:
ORGANIZER;CN=campus1:MAILTO:victor.swamy@gmail.com
DTSTART;TZID=Etc/GMT+0:20250808T000000
DTEND;TZID=Etc/GMT+0:20250808T010000
X-ALT-DESC;FMTTYPE=TEXT/HTML:
CATEGORIES:General
URL;VALUE=URI:https://stmarychampion.com/campusI/mc-events/inter-house-folk
 -dance-competition/
METHOD:PUBLISH
END:VEVENT
END:VCALENDAR