BEGIN:VCALENDAR
VERSION:2.0
PRODID:spatie/icalendar-generator
DESCRIPTION:Events from St Mary Champion H.S. School
X-WR-CALDESC:Events from St Mary Champion H.S. School
REFRESH-INTERVAL;VALUE=DURATION:PT1440M
X-PUBLISHED-TTL:PT1440M
BEGIN:VTIMEZONE
TZID:Etc/GMT+0
BEGIN:STANDARD
DTSTART:20250105T000000Z
TZOFFSETFROM:+0000
TZOFFSETTO:+0000
END:STANDARD
END:VTIMEZONE
BEGIN:VTIMEZONE
TZID:UTC
BEGIN:STANDARD
DTSTART:20250726T090801Z
TZOFFSETFROM:+0000
TZOFFSETTO:+0000
END:STANDARD
END:VTIMEZONE
BEGIN:VEVENT
UID:87-80
DTSTAMP:20260422T090801Z
SUMMARY:Dussehra\, Gandhi- Shashtri Jayanti
LOCATION:
ORGANIZER;CN=campus1:MAILTO:victor.swamy@gmail.com
DTSTART;TZID=Etc/GMT+0:20251002T000000
DTEND;TZID=Etc/GMT+0:20251002T010000
X-ALT-DESC;FMTTYPE=TEXT/HTML:
CATEGORIES:General
URL;VALUE=URI:https://stmarychampion.com/campusI/mc-events/dussehra-gandhi-
 shashtri-jayanti/
METHOD:PUBLISH
END:VEVENT
END:VCALENDAR